BEGIN:VCALENDAR
VERSION:2.0
PRODID:spatie/icalendar-generator
NAME:Participe Mais Conselhos : Conselho de Representantes de Conselhos de 
 Escola - CRECE
X-WR-CALNAME:Participe Mais Conselhos : Conselho de Representantes de Conse
 lhos de Escola - CRECE
DESCRIPTION:O CRECE é um colegiado que tem como fim o fortalecimento dos C
 onselhos de Escola e a ampliação do processo democrático nas unidades e
 ducacionais e nas diferentes instâncias decisórias visando a uma melhor 
 qualidade da educação\, criado em 12/05/2015\, conforme a Lei nº 16.21
 3/2015 (Link para um novo sítio) (Link para um novo sítio)Objetivo do C
 onselho e Legislação relacionada às suas atividadesA Rede Municipal de 
 Educação(RME) da cidade de São Paulo é composta por Unidades Educacion
 ais (UEs) de...
X-WR-CALDESC:O CRECE é um colegiado que tem como fim o fortalecimento dos 
 Conselhos de Escola e a ampliação do processo democrático nas unidades 
 educacionais e nas diferentes instâncias decisórias visando a uma melhor
  qualidade da educação\, criado em 12/05/2015\, conforme a Lei nº 16.2
 13/2015 (Link para um novo sítio) (Link para um novo sítio)Objetivo do 
 Conselho e Legislação relacionada às suas atividadesA Rede Municipal de
  Educação(RME) da cidade de São Paulo é composta por Unidades Educacio
 nais (UEs) de...
BEGIN:VTIMEZONE
TZID:America/Sao_Paulo
BEGIN:STANDARD
DTSTART:20250603T100000
TZOFFSETFROM:-0300
TZOFFSETTO:-0300
END:STANDARD
END:VTIMEZONE
BEGIN:VTIMEZONE
TZID:UTC
BEGIN:STANDARD
DTSTART:20250607T184231
TZOFFSETFROM:+0000
TZOFFSETTO:+0000
END:STANDARD
END:VTIMEZONE
BEGIN:VEVENT
UID:Conselho de Representantes de Conselhos de Escola - CRECE-501
DTSTAMP:20260423T171302Z
SUMMARY:Reunião ordinária do CRECE
DESCRIPTION:1 -  Boletim final do Levantamento com as unidades. 2 - Compos
 ição e posse dos CRECEs Regionais (levantamento). 3 - Informes gerais a)
  Posse do CRECE Central b) Homenagem ao CRECE na Câmara Municip...
LOCATION:Reunião remota – Plataforma Teams
DTSTART;TZID=America/Sao_Paulo:20260425T100000
DTEND;TZID=America/Sao_Paulo:20260425T120000
END:VEVENT
BEGIN:VEVENT
UID:Conselho de Representantes de Conselhos de Escola - CRECE-486
DTSTAMP:20260320T134308Z
SUMMARY:Reunião ordinária do CRECE
DESCRIPTION:Pauta: Informes da Executiva\; 1) Aprovação do Regimento do C
 onselho de Escola/ CEI/ CEMEI ou CIEJA \; 2) PNE/ PME\; 3) Deliberação s
 obre a data da posse dos Conselheiros para o mandato maio/26 a abri...
LOCATION:
DTSTART;TZID=America/Sao_Paulo:20260328T100000
DTEND;TZID=America/Sao_Paulo:20260328T130000
END:VEVENT
BEGIN:VEVENT
UID:Conselho de Representantes de Conselhos de Escola - CRECE-470
DTSTAMP:20260304T184231Z
SUMMARY:Reunião ordinária do CRECE
DESCRIPTION:Pauta: Informes da Executiva\; 1)Transporte Escolar Gratuito 
 – TEG a) Problemas com barreiras físicas\; b) Proposta de alteração n
 a legislação do benefício. 2) Composição do Conselho de Escola 2026\;
  ...
LOCATION:Reunião remota – Plataforma Teams
DTSTART;TZID=America/Sao_Paulo:20260228T100000
DTEND;TZID=America/Sao_Paulo:20260228T130000
END:VEVENT
END:VCALENDAR