BEGIN:VCALENDAR
VERSION:2.0
PRODID:spatie/icalendar-generator
NAME:Participe Mais Conselhos : Conselho de Acompanhamento e Controle Socia
 l do FUNDEB – CACS
X-WR-CALNAME:Participe Mais Conselhos : Conselho de Acompanhamento e Contro
 le Social do FUNDEB – CACS
DESCRIPTION:O Conselho de Acompanhamento e Controle Social do Fundo de Manu
 tenção e Desenvolvimento da Educação Básica e de Valorização dos Pr
 ofissionais da Educação (CACS-FUNDEB) é um órgão colegiado que tem co
 mo função principal o acompanhamento e controle social sobre a distribui
 ção\, a transferência\, o planejamento e a aplicação dos recursos do 
 Fundo\, no âmbito de todas as esferas administrativas: municipal\, estadu
 al e federal.O Fundo de Manutenção e Desenvolvimento da Educação Bási
 ca e de Valorização...
X-WR-CALDESC:O Conselho de Acompanhamento e Controle Social do Fundo de Man
 utenção e Desenvolvimento da Educação Básica e de Valorização dos P
 rofissionais da Educação (CACS-FUNDEB) é um órgão colegiado que tem c
 omo função principal o acompanhamento e controle social sobre a distribu
 ição\, a transferência\, o planejamento e a aplicação dos recursos do
  Fundo\, no âmbito de todas as esferas administrativas: municipal\, estad
 ual e federal.O Fundo de Manutenção e Desenvolvimento da Educação Bás
 ica e de Valorização...
BEGIN:VTIMEZONE
TZID:America/Sao_Paulo
BEGIN:STANDARD
DTSTART:20250515T093000
TZOFFSETFROM:-0300
TZOFFSETTO:-0300
END:STANDARD
END:VTIMEZONE
BEGIN:VTIMEZONE
TZID:UTC
BEGIN:STANDARD
DTSTART:20250609T144110
TZOFFSETFROM:+0000
TZOFFSETTO:+0000
END:STANDARD
END:VTIMEZONE
BEGIN:VEVENT
UID:Conselho de Acompanhamento e Controle Social do FUNDEB – CACS-472
DTSTAMP:20260306T144218Z
SUMMARY:55° Sessão Ordinária CACS FUNDEB 
DESCRIPTION:Pauta: Relatório de prestação de contas ao Tribunal de Conta
 s do Município.
LOCATION:Microsoft teams
DTSTART;TZID=America/Sao_Paulo:20260223T093000
DTEND;TZID=America/Sao_Paulo:20260223T123000
END:VEVENT
BEGIN:VEVENT
UID:Conselho de Acompanhamento e Controle Social do FUNDEB – CACS-471
DTSTAMP:20260306T144110Z
SUMMARY:1ª Sessão extraordinária do CACS-FUNDEP
DESCRIPTION:Pauta: Prestação de contas do 6º bimestre 2025
LOCATION:Microsoft teams
DTSTART;TZID=America/Sao_Paulo:20260209T093000
DTEND;TZID=America/Sao_Paulo:20260209T123000
END:VEVENT
END:VCALENDAR